BEGIN:VCALENDAR
VERSION:2.0
PRODID:-//eventon.com NONSGML v1.0//EN
CALSCALE:GREGORIAN
METHOD:PUBLISH
BEGIN:VEVENT
UID:69e4d9a9062b5
DTSTAMP:20260419T133329Z
DTSTART:20221026T160000Z
DTEND:20221026T173000Z
LOCATION:
SUMMARY:A Children’s Paradise? The JDC and Selvino\,  Italy\,  1945-48
DESCRIPTION:Presented by the  JDC Archives and the Centro Primo Levi.  R
 egistration In a May 1947 memo\,  JDC worker Theodore Sanejberg described I
 talian children’s home\,  Selvino\,  as a “children’s paradise.” Le
 ss than a month later\,  however\,  he wrote that his original assessment h
 ad been “idealistic” and described the children’s behavior as “very
 [..]\nhttps://primolevicenter.org/events/a-childrens-paradise-the-jdc-and-s
 elvino-italy-1945-48/
URL:https://primolevicenter.org/events/a-childrens-paradise-the-jdc-and-selvino-italy-1945-48/
END:VEVENT
END:VCALENDAR