BEGIN:VCALENDAR
VERSION:2.0
PRODID:-//eventon.com NONSGML v1.0//EN
CALSCALE:GREGORIAN
METHOD:PUBLISH
BEGIN:VEVENT
UID:69e4d1a32ab5c
DTSTAMP:20260419T125915Z
DTSTART:20240125T230000Z
DTEND:20240126T003000Z
LOCATION:Italian Cultural Institute
SUMMARY:Edith Bruck’s Lost Bread
DESCRIPTION:Literary scholar Gabriella Romani in conversation with Fabio Fi
 notti presents Lost Bread by Edith Bruck\,  which she translated with David
  Yanoff. The Italian original\,  Il pane perduto (2021)\,  was a finalist f
 or the prestigious Premio Strega. Born in Hungary\,  Ms. Bruck was deported
  to Auschwitz in 1944 and survived with[..]\nhttps://primolevicenter.org/ev
 ents/edith-brucks-lost-bread/
URL:https://primolevicenter.org/events/edith-brucks-lost-bread/
END:VEVENT
END:VCALENDAR