BEGIN:VCALENDAR
VERSION:2.0
PRODID:-//eventon.com NONSGML v1.0//EN
CALSCALE:GREGORIAN
METHOD:PUBLISH
BEGIN:VEVENT
UID:69e7318bd42f4
DTSTAMP:20260421T081259Z
DTSTART:20240912T223000Z
DTEND:20240912T234500Z
LOCATION:New York Public Library. Stavros Niarchos Foundation Library 455 Fifth Avenue
SUMMARY:Devil’s Contract
DESCRIPTION:Book launch: Ed Simon\,  Devil’s Contract. The History of the
  Faustian Bargain \,   (Melville House Publishing\,  2024). With Ed Simo
 n in conversation with Mark Lilla. Register here “Marlowe staged Dr. Faus
 tus at the very beginning of what is increasingly being called the Anthropo
 cene\,  the geological epoch in which humanity was finally[..]\nhttps://pri
 molevicenter.org/events/devils-contract/
URL:https://primolevicenter.org/events/devils-contract/
END:VEVENT
END:VCALENDAR