BEGIN:VCALENDAR
VERSION:2.0
PRODID:-//eventon.com NONSGML v1.0//EN
CALSCALE:GREGORIAN
METHOD:PUBLISH
BEGIN:VEVENT
UID:69ea3108d6879
DTSTAMP:20260423T144736Z
DTSTART:20241111T220000Z
DTEND:20241112T013000Z
LOCATION:ASF 6th Floor Bookhouse 15 West 16th Street
SUMMARY:Welcome to the Sixth Floor Bookhouse
DESCRIPTION:The American Sephardi Federation is pleased to invite colleague
 s and the public to the sixth-floor Bookhouse at the Center for Jewish Hist
 ory. The Bookhouse is an intimate space for collaborative work on books\,  
 book culture\,  and history\,  comprised of a Reading room\,  a Study room\
 ,  a History of the Hebrew[..]\nhttps://primolevicenter.org/events/welcome-
 to-the-sixth-floor-bookhouse/
URL:https://primolevicenter.org/events/welcome-to-the-sixth-floor-bookhouse/
END:VEVENT
END:VCALENDAR