BEGIN:VCALENDAR
VERSION:2.0
PRODID:-//eventon.com NONSGML v1.0//EN
CALSCALE:GREGORIAN
METHOD:PUBLISH
BEGIN:VEVENT
UID:69eb9898e0ca9
DTSTAMP:20260424T162144Z
DTSTART:20250519T230000Z
DTEND:20250520T003000Z
LOCATION:Bookhouse ASF Sixth Floor\,  15 West 16th Street
SUMMARY:A Renaissance Story: David Reubeni\,  Diplomat and Spy.
DESCRIPTION:Zvi Ben-Dor Benite will speak about the story of David Reubeni.
  R A reservation is required: rsvp@primolevicenter.org Arriving in Rome in 
 1523\,  a Yemeni Jew proclaimed himself the &#8220;Prince of the Lost Tribe
 s&#8221; and leader of their 300\, 000-strong army. Pope Clement VII met wi
 th the enigmatic David Ha-Reuveni\,  who proposed[..]\nhttps://primolevicen
 ter.org/events/a-renaissance-story-david-reubeni-diplomat-and-spy/
URL:https://primolevicenter.org/events/a-renaissance-story-david-reubeni-diplomat-and-spy/
END:VEVENT
END:VCALENDAR