BEGIN:VCALENDAR
VERSION:2.0
PRODID:-//eventon.com NONSGML v1.0//EN
CALSCALE:GREGORIAN
METHOD:PUBLISH
BEGIN:VEVENT
UID:69ebaf292737a
DTSTAMP:20260424T175801Z
DTSTART:20250616T230000Z
DTEND:20250617T010000Z
LOCATION:Bookhouse ASF Sixth Floor\,  15 West 16th Street
SUMMARY:Bloomsday
DESCRIPTION:Every year on June 16th\,  Bloomsday\,  James Joyce&#8217;s Uly
 sses is read worldwide. Its hero\,  Leopold Bloom\,  is one of the most ren
 owned Jewish characters in 20th-century literature\,  and Joyce the writer 
 who translated exile into modernity. Critics and scholars continue to debat
 e what kind of Jew Leopold Bloom is. But[..]\nhttps://primolevicenter.org/e
 vents/bloomsday/
URL:https://primolevicenter.org/events/bloomsday/
END:VEVENT
END:VCALENDAR