BEGIN:VCALENDAR
VERSION:2.0
PRODID:-//eventon.com NONSGML v1.0//EN
CALSCALE:GREGORIAN
METHOD:PUBLISH
BEGIN:VEVENT
UID:69ecae5cf3d8c
DTSTAMP:20260425T120652Z
DTSTART:20260201T190000Z
DTEND:20260201T210000Z
LOCATION:Magazzino Italian Art Cold Spring\,  New York
SUMMARY:Imagined Natures after War: Primo Levi and Pino Pascali in the Sixties
DESCRIPTION:[vc_row][vc_column][vc_column_text css=&#8221;&#8221;]Due to in
 clement weather\,  this event will now be held on February 1st. In commemor
 ation of Giorno della Memoria—the International Holocaust Remembrance Day
 \,  observed annually on January 27—Magazzino Italian Art will host a pub
 lic program organized in collaboration with the Centro Primo Levi and in co
 ordination with the Italian[..]\nhttps://primolevicenter.org/events/imagine
 d-natures-after-war-primo-levi-and-pino-pascali-in-the-1960s/
URL:https://primolevicenter.org/events/imagined-natures-after-war-primo-levi-and-pino-pascali-in-the-1960s/
END:VEVENT
END:VCALENDAR