BEGIN:VCALENDAR
VERSION:2.0
PRODID:-//eventon.com NONSGML v1.0//EN
CALSCALE:GREGORIAN
METHOD:PUBLISH
BEGIN:VEVENT
UID:69e9db3596b23
DTSTAMP:20260423T084125Z
DTSTART:20260127T140000Z
DTEND:20260127T200000Z
LOCATION:Consulate General of Italy 690 Park Avenue
SUMMARY:Ceremony of the reading of the names
DESCRIPTION:[vc_row][vc_column][vc_column_text css=&#8221;&#8221;] Each Jan
 uary 27\,  we read the names of 9\, 700 Jewish men\,  women\,  and children
  deported from Italy and the Italian territories between 1943 and 1945. The
  ceremony is open to the public and held outdoors\,  in front of the Consul
 ate General of Italy. Everyone can join and read.[..]\nhttps://primolevicen
 ter.org/events/ceremony-of-the-reading-of-the-names/
URL:https://primolevicenter.org/events/ceremony-of-the-reading-of-the-names/
END:VEVENT
END:VCALENDAR