BEGIN:VCALENDAR
VERSION:2.0
PRODID:-//eventon.com NONSGML v1.0//EN
CALSCALE:GREGORIAN
METHOD:PUBLISH
BEGIN:VEVENT
UID:69e9c0b70e12f
DTSTAMP:20260423T064823Z
DTSTART:20260122T223000Z
DTEND:20260123T000000Z
LOCATION:Bookhouse ASF Sixth Floor\,  15 West 16th Street
SUMMARY:Upside-Down Love
DESCRIPTION:A reservation is required at rsvp@primolevicenter.org. Please i
 ndicate the program in the subject line. Arrive at the center between 5:15 
 pm and 5:30 pm. CPL staff will check you in at the main door. Thank you. On
 e of the most iconic and delicious dishes of Palestinian cuisine is the Maq
 lube.[..]\nhttps://primolevicenter.org/events/upside-down-love/
URL:https://primolevicenter.org/events/upside-down-love/
END:VEVENT
END:VCALENDAR