BEGIN:VCALENDAR
VERSION:2.0
PRODID:-//eventon.com NONSGML v1.0//EN
CALSCALE:GREGORIAN
METHOD:PUBLISH
BEGIN:VEVENT
UID:69e73242412c1
DTSTAMP:20260421T081602Z
DTSTART:20260308T193000Z
DTEND:20260308T213000Z
LOCATION:Bookhouse ASF Sixth Floor\,  15 West 16th Street
SUMMARY:The Resistance of Motherless Tongues
DESCRIPTION:Talk and reading by poet\,  literary scholar\,  and translator 
 Jennifer Scappettone on her book\,  Poetry After Barbarism: The Invention o
 f Motherless Tongues and Resistance to Fascism\,  Columbia University Press
 \,  October 2025 A reservation is required at rsvp@primolevicenter.org. Ind
 icate the program title. Against a backdrop of xenophobic and ethnonational
 ist fantasies of[..]\nhttps://primolevicenter.org/events/motherless-tongues
 -and-resistance/
URL:https://primolevicenter.org/events/motherless-tongues-and-resistance/
END:VEVENT
END:VCALENDAR