BEGIN:VCALENDAR
VERSION:2.0
PRODID:-//eventon.com NONSGML v1.0//EN
CALSCALE:GREGORIAN
METHOD:PUBLISH
BEGIN:VEVENT
UID:69e9c46687559
DTSTAMP:20260423T070406Z
DTSTART:20260427T230000Z
DTEND:20260428T003000Z
LOCATION:Bookhouse ASF Sixth Floor\,  15 West 16th Street
SUMMARY:Hang time: Betting on the future in late medieval Italy
DESCRIPTION:Join us for a conversation with historian of Mediterranean stud
 ies\,  Karla Mallette (University of Michigan)\,  about her research on the
  Arabic and Byzantine roots of the idea of risk management. Reservation is 
 required: rsvp@primolevicenter.org Key components of modern risk management
  strategies first took shape in medieval Italy – but these[..]\nhttps://p
 rimolevicenter.org/events/hang-time-betting-on-the-future-in-late-medieval-
 italy/
URL:https://primolevicenter.org/events/hang-time-betting-on-the-future-in-late-medieval-italy/
END:VEVENT
END:VCALENDAR