BEGIN:VCALENDAR
VERSION:2.0
PRODID:-//eventon.com NONSGML v1.0//EN
CALSCALE:GREGORIAN
METHOD:PUBLISH
BEGIN:VEVENT
UID:69e9de29eede9
DTSTAMP:20260423T085401Z
DTSTART:20260423T223000Z
DTEND:20260424T003000Z
LOCATION:Bookhouse ASF Sixth Floor\,  15 West 16th Street
SUMMARY:Embroidery\,  Monsters\,  and the Threads between Women in Morocco and Italy
DESCRIPTION:Join Elya Assayag for a conversation-workshop on her work on th
 e history of Moroccan embroidery and the labor of tracing the past through 
 one of the most ancient arts\,  largely practiced by women. Reservation is 
 required: rsvp@primolevicenter.org Embroidery is a powerful tool. It can be
  easily carried around and circulated[..]\nhttps://primolevicenter.org/even
 ts/embroidery-monsters-and-the-threads-between-women-in-morocco-and-italy/
URL:https://primolevicenter.org/events/embroidery-monsters-and-the-threads-between-women-in-morocco-and-italy/
END:VEVENT
END:VCALENDAR