BEGIN:VCALENDAR
VERSION:2.0
PRODID:-//eventon.com NONSGML v1.0//EN
CALSCALE:GREGORIAN
METHOD:PUBLISH
BEGIN:VEVENT
UID:69ea58b904358
DTSTAMP:20260423T173657Z
DTSTART:20090127T160000Z
DTEND:20090127T180000Z
LOCATION:
SUMMARY:Italian Jews\,  Foreign Jews: Common Destiny and Plurality of Experiences in Fascist Italy
DESCRIPTION:1:30 pm | Film screening.The Jews from Fossoli Directed by Rugg
 eroGabbai (Italy\,  2006\,  DVD\,  50 minutes\,  Italian with English subti
 tles) This illuminating documentary exposes the Italian Social Republic’s
  1943 deportation of the Jews residing in Italy to the concentration camp o
 f Fossoli\,  which became the country’s main point of transit[..]\nhttps:
 //primolevicenter.org/events/2009-italian-jews-foreign-jews-common-destiny-
 and-plurality-of-experiences-in-fascist-italy/
URL:https://primolevicenter.org/events/2009-italian-jews-foreign-jews-common-destiny-and-plurality-of-experiences-in-fascist-italy/
END:VEVENT
END:VCALENDAR