BEGIN:VCALENDAR
VERSION:2.0
PRODID:-//eventon.com NONSGML v1.0//EN
CALSCALE:GREGORIAN
METHOD:PUBLISH
BEGIN:VEVENT
UID:69ece0b3d8858
DTSTAMP:20260425T154139Z
DTSTART:20151025T150000Z
DTEND:20151025T170000Z
LOCATION:
SUMMARY:New Voices on Primo Levi: Selected Transcripts
DESCRIPTION:Sunday\,  October 25\,  2009 Opening remarks by Prof. Andrew Vi
 terbi I feel both honored and inadequate for the role of opening this sympo
 sium since I am neither a literary critic nor a historian. Still I have rea
 d practically all of Primo Levi’s writings and have spent more time with 
 my[..]\nhttps://primolevicenter.org/events/2009-primo-levi-at-90-transcript
 s/
URL:https://primolevicenter.org/events/2009-primo-levi-at-90-transcripts/
END:VEVENT
END:VCALENDAR