BEGIN:VCALENDAR
VERSION:2.0
PRODID:-//eventon.com NONSGML v1.0//EN
CALSCALE:GREGORIAN
METHOD:PUBLISH
BEGIN:VEVENT
UID:69e88e764ac25
DTSTAMP:20260422T090142Z
DTSTART:20130412T103000Z
DTEND:20130412T133000Z
LOCATION:NYU\,  Casa Italiana Zerilli Marimò 24 West 12 Street
SUMMARY:Beyond the Ghetto: New Research Perspectives on the History of Jews in Italy
DESCRIPTION:Marina Caffiero is Professor Early Modern History at the Univer
 sity of Rome &#8220;La Sapienza&#8221; and directs the PhD section of the D
 epartment of History\,  Cultures and Religions. She is the author of Forced
  Baptisms &#8211; History of Jews\,  Christian and Converts in Papal Rome (
 University of California Press\,  2011). Serena[..]\nhttps://primolevicente
 r.org/events/2013-beyond-the-ghetto-new-research-perspectives-on-the-histor
 y-of-jews-in-italy/
URL:https://primolevicenter.org/events/2013-beyond-the-ghetto-new-research-perspectives-on-the-history-of-jews-in-italy/
END:VEVENT
END:VCALENDAR