BEGIN:VCALENDAR
VERSION:2.0
PRODID:-//eventon.com NONSGML v1.0//EN
CALSCALE:GREGORIAN
METHOD:PUBLISH
BEGIN:VEVENT
UID:69e5c9b014d3e
DTSTAMP:20260420T063736Z
DTSTART:20140602T180000Z
DTEND:20140602T210000Z
LOCATION:Casa Italiana Zerilli Marimò Casa Italiana Zerilli Marimò 24 West 12th Street
SUMMARY:Giacomo Matteotti’s Murder and the Rise of the Totalitarian State
DESCRIPTION:Presented jointly with NYU Casa Italiana Zerilli Marimò and th
 e Consulate General of Italy on the 90th Anniversary of Matteotti’s murde
 r and Italian National Day. Held with the endorsement of the President of 
 the Italian Republic. Round table Mauro Canali (Università di Camerino) S
 pencer Di Scala (University of Massachusetts Boston)   8:00 pm Film[..]\
 nhttps://primolevicenter.org/events/giacomo-matteottis-murder-and-the-rise-
 of-the-totalitarian-state/
URL:https://primolevicenter.org/events/giacomo-matteottis-murder-and-the-rise-of-the-totalitarian-state/
END:VEVENT
END:VCALENDAR