BEGIN:VCALENDAR
VERSION:2.0
PRODID:-//eventon.com NONSGML v1.0//EN
CALSCALE:GREGORIAN
METHOD:PUBLISH
BEGIN:VEVENT
UID:69e731f80324a
DTSTAMP:20260421T081448Z
DTSTART:20140501T180000Z
DTEND:20140506T180000Z
LOCATION:CUNY Graduate Center
SUMMARY:Twentieth-Century Italy and Italian Jews. Two Lectures by Ilaria Pavan
DESCRIPTION:Thursday\,  May 1 | 6 pm  The Attitudes of Italian Jews Toward
 s Fascism in the 1920s Thursday\,  May 8 | 6 pm Not Facing the Past: Italia
 n Post-Fascist Policies Towards the Jews\,  1945-2001 Thursday\,  May 1 | 6
 :00 PM The Attitudes of Italian Jews Towards Fascism in the 1920s Not[..]\n
 https://primolevicenter.org/events/twentieth-century-italy-and-italian-jews
 -two-lectures-by-ilaria-pavan/
URL:https://primolevicenter.org/events/twentieth-century-italy-and-italian-jews-two-lectures-by-ilaria-pavan/
END:VEVENT
END:VCALENDAR