BEGIN:VCALENDAR
VERSION:2.0
PRODID:-//eventon.com NONSGML v1.0//EN
CALSCALE:GREGORIAN
METHOD:PUBLISH
BEGIN:VEVENT
UID:69e7320d32252
DTSTAMP:20260421T081509Z
DTSTART:20121204T060000Z
DTEND:20121204T200000Z
LOCATION:Simon Wiesenthal Center – Museum of Tolerance
SUMMARY:From Enemy to Brother: The Revolution in Catholic Teaching on the Jews\,  1933-1965 with author John Connelly
DESCRIPTION:In 1965 the Second Vatican Council declared that God loves the 
 Jews. Before that\,  the Church had taught for centuries that Jews were cur
 sed by God and\,  in the 1940s\,  mostly kept silent as Jews were slaughter
 ed by the Nazis. How did an institution whose wisdom is said to be[..]\nhtt
 ps://primolevicenter.org/events/from-enemy-to-brother-the-revolution-in-cat
 holic-teaching-on-the-jews-1933-1965-with-author-john-connelly/
URL:https://primolevicenter.org/events/from-enemy-to-brother-the-revolution-in-catholic-teaching-on-the-jews-1933-1965-with-author-john-connelly/
END:VEVENT
END:VCALENDAR