BEGIN:VCALENDAR
VERSION:2.0
PRODID:-//eventon.com NONSGML v1.0//EN
CALSCALE:GREGORIAN
METHOD:PUBLISH
BEGIN:VEVENT
UID:69eb3d4d90cba
DTSTAMP:20260424T095213Z
DTSTART:20121006T180000Z
DTEND:20121006T200000Z
LOCATION:Casa Italiana Zerilli Marimò Casa Italiana Zerilli Marimò 24 West 12th Street
SUMMARY:Il Grido della Terra (The Earth Cries Out)
DESCRIPTION:Film Screening and Roundtable: Il Grido della Terra\,  directed
  by Duilio Colletti\,  1949 Guri Schwarz\,  Stefano Albertini\,  Wendy Gitt
 ler The film is presented in collaboration with the Centro Sperimentale di
  Cinematografia &#8211; Cineteca Nazionale A Neo-Realist tale on the foundi
 ng of Israel and one of the first films to narrate the[..]\nhttps://primole
 vicenter.org/events/il-grido-della-terra-the-earth-cries-out-2/
URL:https://primolevicenter.org/events/il-grido-della-terra-the-earth-cries-out-2/
END:VEVENT
END:VCALENDAR