BEGIN:VCALENDAR
VERSION:2.0
PRODID:-//eventon.com NONSGML v1.0//EN
CALSCALE:GREGORIAN
METHOD:PUBLISH
BEGIN:VEVENT
UID:69e88e26731f2
DTSTAMP:20260422T090022Z
DTSTART:20120913T180000Z
DTEND:20120913T200000Z
LOCATION:Casa Italiana Zerilli Marimò Casa Italiana Zerilli Marimò 24 West 12th Street
SUMMARY:Robert Gordon: The Holocaust in Italian Culture
DESCRIPTION:Robert Gordon (University of Cambridge) in conversation with 
 Stefania Lucamante(Catholic University of America). On the occasion of the 
 publication of their new books. Moderator: David Forgacs (New York Univer
 sity). Italy&#8217;s modern history is entangled with the Holocaust in comp
 licated ways. Fascist Italy was the model and origin for Hitler’s totalit
 arian racial state and adopted[..]\nhttps://primolevicenter.org/events/robe
 rt-gordon-the-holocaust-in-italian-culture/
URL:https://primolevicenter.org/events/robert-gordon-the-holocaust-in-italian-culture/
END:VEVENT
END:VCALENDAR