BEGIN:VCALENDAR
VERSION:2.0
PRODID:-//eventon.com NONSGML v1.0//EN
CALSCALE:GREGORIAN
METHOD:PUBLISH
BEGIN:VEVENT
UID:69e65c446cb40
DTSTAMP:20260420T170300Z
DTSTART:20120416T180000Z
DTEND:20120416T200000Z
LOCATION:Congregation Shearith Israel
SUMMARY:Daniele Bedarida Presents the Music of the Synagogue of Livorno
DESCRIPTION:Join the Hazan of Livorno Daniele Bedarida and his son\,  art h
 istorian Raffaele Bedarida\,  for an evening of music and art. Daniele Beda
 rida will perform traditional music from the synagogue of Livorno which he 
 contributed to recuperate from oral and written sources. He will be joined 
 in performance by Rabbi[..]\nhttps://primolevicenter.org/events/daniele-bed
 arida-presents-the-music-of-the-synagogue-of-livorno/
URL:https://primolevicenter.org/events/daniele-bedarida-presents-the-music-of-the-synagogue-of-livorno/
END:VEVENT
END:VCALENDAR