BEGIN:VCALENDAR
VERSION:2.0
PRODID:-//eventon.com NONSGML v1.0//EN
CALSCALE:GREGORIAN
METHOD:PUBLISH
BEGIN:VEVENT
UID:69e7319fed332
DTSTAMP:20260421T081319Z
DTSTART:20110319T180000Z
DTEND:20110319T200000Z
LOCATION:Congregation Ohev Shalom
SUMMARY:Italian Purim at Scola Nova NY. Fate Onore al Bel Purim ...
DESCRIPTION:Purim with Rav Umberto Piperno Ardith\,  Reading of the Megill
 ah\,  Traditional Italian songs\,  Chiacchiere and frappe di Haman Find y
 our Italian Purim gear at Torah.it: E-books\,  Meghillat Ester ready for s
 martphone\,  children’s games\,  traditional Italian songs\,  essays and 
 much more! LEISURELY READINGS Purim and Kippur: So Close\,  So Far\,  by Ra
 bbi David Gianfranco Di[..]\nhttps://primolevicenter.org/events/italian-pur
 im-at-scola-nova-ny-fate-onore-al-bel-purim/
URL:https://primolevicenter.org/events/italian-purim-at-scola-nova-ny-fate-onore-al-bel-purim/
END:VEVENT
END:VCALENDAR