BEGIN:VCALENDAR
VERSION:2.0
PRODID:-//eventon.com NONSGML v1.0//EN
CALSCALE:GREGORIAN
METHOD:PUBLISH
BEGIN:VEVENT
UID:69ea42bb20d9e
DTSTAMP:20260423T160307Z
DTSTART:20090304T170000Z
DTEND:20090422T200000Z
LOCATION:
SUMMARY:Tribute to Giorgio Bassani
DESCRIPTION:The writings of Giorgio Bassani are recognized internationally 
 for their memorably elusive characters\,  the many ways in which they defy 
 stereotypes\,  and their uncanny portrayal of the Italian society between t
 he end of Fascism and the post war period. Lesser known to the public at la
 rge are Bassani’s contributions as[..]\nhttps://primolevicenter.org/event
 s/tribute-to-giorgio-bassani/
URL:https://primolevicenter.org/events/tribute-to-giorgio-bassani/
END:VEVENT
END:VCALENDAR