BEGIN:VCALENDAR
VERSION:2.0
PRODID:-//eventon.com NONSGML v1.0//EN
CALSCALE:GREGORIAN
METHOD:PUBLISH
BEGIN:VEVENT
UID:69e58caa64997
DTSTAMP:20260420T021714Z
DTSTART:20080908T180000Z
DTEND:20080915T180000Z
LOCATION:Multiple venues
SUMMARY:New Voices on Primo Levi
DESCRIPTION:Centro Primo Levi with the Italian Cultural Institute and Casa 
 Italiana Zerilli Marimó inaugurate the first annual symposium dedicated to
  the Italian writer and scientist Primo Levi. Sessions continue on Septembe
 r 9 at 7:00 pm at the Italian Cultural Institute and on September 15 at 7:0
 0 pm at the Center[..]\nhttps://primolevicenter.org/events/new-voices-on-pr
 imo-levi/
URL:https://primolevicenter.org/events/new-voices-on-primo-levi/
END:VEVENT
END:VCALENDAR