BEGIN:VCALENDAR
VERSION:2.0
PRODID:-//eventon.com NONSGML v1.0//EN
CALSCALE:GREGORIAN
METHOD:PUBLISH
BEGIN:VEVENT
UID:69ed20b4c9603
DTSTAMP:20260425T201444Z
DTSTART:20170124T090000Z
DTEND:20170124T203000Z
LOCATION:Multiple Venues. Details will be published on January 15th
SUMMARY:Under Glass. Museums and the Display of History.
DESCRIPTION:Museums and the Memory of Nazi-Fascism\,  the Holocaust and Wor
 ld War II: Toward a Shared European History? Morning session: 9:00 am to 12
 :00 noon (faculty and students only. rsvp to info@primolevicenter.org spec
 ifying affiliation). Columbia Faculty House\,  Ivy Lounge\,  64 Morningsi
 de Drive (if closed use side entrance). Evening session: 5:00 pm. NYU Casa 
 Italiana[..]\nhttps://primolevicenter.org/events/under-glass-museums-and-th
 e-display-of-history/
URL:https://primolevicenter.org/events/under-glass-museums-and-the-display-of-history/
END:VEVENT
END:VCALENDAR