BEGIN:VCALENDAR
VERSION:2.0
PRODID:-//eventon.com NONSGML v1.0//EN
CALSCALE:GREGORIAN
METHOD:PUBLISH
BEGIN:VEVENT
UID:69ecc6ebb471f
DTSTAMP:20260425T135139Z
DTSTART:20170127T090000Z
DTEND:20170127T150000Z
LOCATION:Consulate General of Italy 690 Park Avenue
SUMMARY:Giorno della Memoria. Reading of the Names.
DESCRIPTION:Ceremony of the reading of the names of the Jews deported from 
 Italy and Italian territories. Opening remarks by Consul General Francesco 
 Genuardi. Rabbi Nissim Elnecavé will recite kaddish before the beginning o
 f the reading. During the ceremony we will read brief accounts of the lives
  of men\,  women and[..]\nhttps://primolevicenter.org/events/reading-of-the
 -names/
URL:https://primolevicenter.org/events/reading-of-the-names/
END:VEVENT
END:VCALENDAR