BEGIN:VCALENDAR
VERSION:2.0
PRODID:-//eventon.com NONSGML v1.0//EN
CALSCALE:GREGORIAN
METHOD:PUBLISH
BEGIN:VEVENT
UID:69eb6309d6b50
DTSTAMP:20260424T123313Z
DTSTART:20170914T180000Z
DTEND:20170914T210000Z
LOCATION:Center for Jewish History
SUMMARY:Roman Chazanut Lab
DESCRIPTION:The first session of the Rome Lab features Rav Alberto Funaro\
 ,  teacher and cantor of the Spanish Temple in Rome. Join us to learn the m
 ost beautiful tunes of the Roman liturgy for the Selichot and the High Holi
 days. Free and open to the public. Reservations: romelab@primolevicenter.or
 g Traditional liturgical melodies of[..]\nhttps://primolevicenter.org/event
 s/roman-chazanut-lab/
URL:https://primolevicenter.org/events/roman-chazanut-lab/
END:VEVENT
END:VCALENDAR