BEGIN:VCALENDAR
VERSION:2.0
PRODID:-//eventon.com NONSGML v1.0//EN
CALSCALE:GREGORIAN
METHOD:PUBLISH
BEGIN:VEVENT
UID:69e8454a36724
DTSTAMP:20260422T034930Z
DTSTART:20180525T090000Z
DTEND:20180525T110000Z
LOCATION:Università La Sapienza\,  Rome
SUMMARY:Rome and Jerusalem: A Tale of Two Cities
DESCRIPTION:The Rome Lab\,  Centro Primo Levi&#8217;s collaboration with th
 e University of Rome La Sapienza\,  continues with Paula Fredriksen&#8217;s
  inaugural lecture for La Sapienza&#8217;s newly established Master Course 
 in Jewish History. The project is held in cooperation with the Jewish Museu
 m of Rome and the National Foundation for Jewish Culture. The[..]\nhttps://
 primolevicenter.org/events/rome-and-jerusalem-a-tale-of-two-cities-2/
URL:https://primolevicenter.org/events/rome-and-jerusalem-a-tale-of-two-cities-2/
END:VEVENT
END:VCALENDAR