BEGIN:VCALENDAR
VERSION:2.0
PRODID:-//eventon.com NONSGML v1.0//EN
CALSCALE:GREGORIAN
METHOD:PUBLISH
BEGIN:VEVENT
UID:69e813c38365c
DTSTAMP:20260422T001811Z
DTSTART:20181017T050000Z
DTEND:20181017T070000Z
LOCATION:Italian Cultural Institute
SUMMARY:Elsa Morante's La Storia
DESCRIPTION:Reading and panel discussion on Elsa Morante&#8217;s La Storia 
 (History\,  a Novel). In Italian with English translation. Organized by Cen
 tro Primo Levi and the Italian Cultural Institute on the 80th anniversary o
 f the promulgation of the Racial Laws and the 75th anniversary of the depor
 tation of the Jews of Rome. Free[..]\nhttps://primolevicenter.org/events/e
 lsa-morante-history-and-fascism-in-rome/
URL:https://primolevicenter.org/events/elsa-morante-history-and-fascism-in-rome/
END:VEVENT
END:VCALENDAR