BEGIN:VCALENDAR
VERSION:2.0
PRODID:-//eventon.com NONSGML v1.0//EN
CALSCALE:GREGORIAN
METHOD:PUBLISH
BEGIN:VEVENT
UID:69e82b255808d
DTSTAMP:20260422T015757Z
DTSTART:20181017T183000Z
DTEND:20181017T200000Z
LOCATION:Casa Italiana Zerilli Marimò Casa Italiana Zerilli Marimò 24 West 12th Street
SUMMARY:When the American Press Flirted with Fascism
DESCRIPTION:Ruth Ben Ghiat and Alexander Stille in conversation with Ma
 uro Canali on his new research and book La scoperta dell’Italia on Americ
 an correspondents in Fascist Italy. Respondent to be announced. Co-present
 ed by Casa Italiana Zerilli Marimò\,  NYU Department of History and Centro
  Primo Levi. Prof. Canali will present in Italian with English interpreter.
  Mauro Canali’s[..]\nhttps://primolevicenter.org/events/when-the-american
 -press-flirted-with-fascism/
URL:https://primolevicenter.org/events/when-the-american-press-flirted-with-fascism/
END:VEVENT
END:VCALENDAR