BEGIN:VCALENDAR
VERSION:2.0
PRODID:-//eventon.com NONSGML v1.0//EN
CALSCALE:GREGORIAN
METHOD:PUBLISH
BEGIN:VEVENT
UID:69ecb332b0953
DTSTAMP:20260425T122730Z
DTSTART:20191116T180000Z
DTEND:20191116T220000Z
LOCATION:Los Corassones Avlan\,  148 West 4th Street
SUMMARY:Poetry Reading in the Village
DESCRIPTION:Please join us for an evening of poetry at 148 West 4th Street.
  Visit the pop-up installation Los Corassones Avlan. This imaginary monolo
 gue on memory and history revisits the encounters and clashes between the O
 ttoman and European worlds as seen through the eyes of young women from the
  tiny Jewish minority[..]\nhttps://primolevicenter.org/events/poetry-readin
 g-in-the-village/
URL:https://primolevicenter.org/events/poetry-reading-in-the-village/
END:VEVENT
END:VCALENDAR