BEGIN:VCALENDAR
VERSION:2.0
PRODID:-//eventon.com NONSGML v1.0//EN
CALSCALE:GREGORIAN
METHOD:PUBLISH
BEGIN:VEVENT
UID:69e9dffa7934c
DTSTAMP:20260423T090146Z
DTSTART:20191124T190000Z
DTEND:20191124T210000Z
LOCATION:The Coronet Theater\,  103 Notting Hill Gate\,  London W11 3LB
SUMMARY:Dramatic reading from Efratia Gitai's letters
DESCRIPTION:European preview: Efratia Gitai’s Correspondence\,  CPL Editi
 ons New York 2019. Featuring: Makram J. Khoury\,  Yael Abecassi\,  Hanna Sc
 hygulla\,  Clara Khoury and special guest\,  Claire Bloom. One woman’s in
 timate record of the tumultuous world in which Israel was born. Efratia Git
 ai was born in Haifa\,  1909. Her parents had arrived only[..]\nhttps://pri
 molevicenter.org/events/dramatic-reading-from-efratia-gitais-letters/
URL:https://primolevicenter.org/events/dramatic-reading-from-efratia-gitais-letters/
END:VEVENT
END:VCALENDAR