BEGIN:VCALENDAR
VERSION:2.0
PRODID:-//eventon.com NONSGML v1.0//EN
CALSCALE:GREGORIAN
METHOD:PUBLISH
BEGIN:VEVENT
UID:69ecb2cc72b72
DTSTAMP:20260425T122548Z
DTSTART:20191121T180000Z
DTEND:20191121T180000Z
LOCATION:Los Corassones Avlan\,  148 West 4th Street
SUMMARY:Stella Levi in conversation with Michael Frank
DESCRIPTION:Women of Rhodes Stella Levi in conversation with Michael Frank 
 about the grandmothers\,  mothers\,  older sisters\,  and younger cousins o
 f the Juderia and how their lives changed &#8211; or didn&#8217;t &#8211; w
 ith the passage of time. Michael Frank is the author of a memoir\,  The Mig
 hty Franks\,  a Barnes &amp;[..]\nhttps://primolevicenter.org/events/stella
 -levi-in-conversation-with-michael-frank/
URL:https://primolevicenter.org/events/stella-levi-in-conversation-with-michael-frank/
END:VEVENT
END:VCALENDAR